BEGIN:VCALENDAR
VERSION:2.0
PRODID:-//SOPAN Infotech - ECPv6.15.11//NONSGML v1.0//EN
CALSCALE:GREGORIAN
METHOD:PUBLISH
X-WR-CALNAME:SOPAN Infotech
X-ORIGINAL-URL:https://sopaninfotech.com
X-WR-CALDESC:Events for SOPAN Infotech
REFRESH-INTERVAL;VALUE=DURATION:PT1H
X-Robots-Tag:noindex
X-PUBLISHED-TTL:PT1H
BEGIN:VTIMEZONE
TZID:Asia/Kolkata
BEGIN:STANDARD
TZOFFSETFROM:+0530
TZOFFSETTO:+0530
TZNAME:IST
DTSTART:20250101T000000
END:STANDARD
END:VTIMEZONE
BEGIN:VEVENT
DTSTART;TZID=Asia/Kolkata:20260221T160000
DTEND;TZID=Asia/Kolkata:20260221T170000
DTSTAMP:20260421T212609
CREATED:20260214T121026Z
LAST-MODIFIED:20260216T113734Z
UID:24786-1771689600-1771693200@sopaninfotech.com
SUMMARY:Free Webinar - From CAD to Stunning Renders: Introduction to SOLIDWORKS Visualize
DESCRIPTION:Improving Quality Turnaround Time Using SOLIDWORKS Inspection\n	\n				\n		\n		\n	\n				\n				\n				\n				\n									Enhance Efficiency\, Accuracy\, and Compliance in Your Inspection Processes 								\n				\n				\n				\n									What Attendees Will LearnHow to accelerate quality inspection workflowsTechniques for automated ballooning and report creationBest practices for integrating SOLIDWORKS Inspection with existing processesReal-world examples of improved turnaround timeTools and features that eliminate manual documentation errors								\n				\n				\n				\n									Who Should AttendQuality Assurance EngineersDesign & CAD EngineersManufacturing EngineersProduction ManagersIndustrial & Process EngineersOrganizations involved in precision manufacturing and component inspection								\n				\n		            \n        \n        			\n		\n		        \n\n                \n                \n                \n        \n                     \n        		\n				\n							\n\n						\n				\n								\n			\n			\n						\n\n									\n						\n							Date & Time						\n					\n				\n									\n						April 18@ 4:00PM - 5:00PM					 \n				\n			\n			\n		\n						\n				\n		            \n        \n                \n        \n                     \n        		\n				\n							\n\n						\n				\n								\n			\n			\n						\n\n									\n						\n							Organized by:						\n					\n				\n									\n						Sopan Infotech Pvt. Ltd.					 \n				\n			\n			\n		\n						\n				\n		            \n        \n                \n        \n                     \n        		\n				\n							\n\n						\n				\n								\n			\n			\n						\n\n									\n						\n							Phone No.						\n					\n				\n									\n						+91 9727910606					 \n				\n			\n			\n		\n						\n				\n		            \n        \n        			\n		\n					\n				\n				\n					\n\n	\n					\n				\n										Registration Form				\n			\n		\n		\n								\n				\n		\n		\n	\n				\n				\n				\n				\n					Please enable JavaScript in your browser to complete this form.Please enable JavaScript in your browser to complete this form.Full Name *Designation *Email *Contact No *		\n			Software Company Want\n			\n		\n		Company Name *Company Location *Are you using any CAD Software?YesNoIf Yes\, Write a Software NameRemarksWant to join Free Webinar on  CFD for Real-World Engineering Problems(SOLIDWORKS Simulation)?YesNoTimings: 18 April 2026 5:00 pm - 6:00 pmSubmit
URL:https://sopaninfotech.com/event/from-cad-to-stunning-renders-introduction-to-solidworks-visualize/
LOCATION:Online
CATEGORIES:Webinars
ATTACH;FMTTYPE=image/jpeg:https://sopaninfotech.com/wp-content/uploads/2026/02/Introduction-to-SOLIDWORKS-Visualize-Free-Webinar-SOPAN-Infotech_Surat-1080x1080-website1.jpg.jpeg
ORGANIZER;CN="Sopan Infotech":MAILTO:info@sopaninfotech.com
END:VEVENT
BEGIN:VEVENT
DTSTART;TZID=Asia/Kolkata:20260221T170000
DTEND;TZID=Asia/Kolkata:20260221T180000
DTSTAMP:20260421T212610
CREATED:20260216T111934Z
LAST-MODIFIED:20260216T123445Z
UID:24914-1771693200-1771696800@sopaninfotech.com
SUMMARY:Free Webinar on Introduction to ESPRIT Edge : Complete CAM Solution
DESCRIPTION:Improving Quality Turnaround Time Using SOLIDWORKS Inspection\n	\n				\n		\n		\n	\n				\n				\n				\n				\n									Enhance Efficiency\, Accuracy\, and Compliance in Your Inspection Processes 								\n				\n				\n				\n									What Attendees Will LearnHow to accelerate quality inspection workflowsTechniques for automated ballooning and report creationBest practices for integrating SOLIDWORKS Inspection with existing processesReal-world examples of improved turnaround timeTools and features that eliminate manual documentation errors								\n				\n				\n				\n									Who Should AttendQuality Assurance EngineersDesign & CAD EngineersManufacturing EngineersProduction ManagersIndustrial & Process EngineersOrganizations involved in precision manufacturing and component inspection								\n				\n		            \n        \n        			\n		\n		        \n\n                \n                \n                \n        \n                     \n        		\n				\n							\n\n						\n				\n								\n			\n			\n						\n\n									\n						\n							Date & Time						\n					\n				\n									\n						April 18@ 4:00PM - 5:00PM					 \n				\n			\n			\n		\n						\n				\n		            \n        \n                \n        \n                     \n        		\n				\n							\n\n						\n				\n								\n			\n			\n						\n\n									\n						\n							Organized by:						\n					\n				\n									\n						Sopan Infotech Pvt. Ltd.					 \n				\n			\n			\n		\n						\n				\n		            \n        \n                \n        \n                     \n        		\n				\n							\n\n						\n				\n								\n			\n			\n						\n\n									\n						\n							Phone No.						\n					\n				\n									\n						+91 9727910606					 \n				\n			\n			\n		\n						\n				\n		            \n        \n        			\n		\n					\n				\n				\n					\n\n	\n					\n				\n										Registration Form				\n			\n		\n		\n								\n				\n		\n		\n	\n				\n				\n				\n				\n					Please enable JavaScript in your browser to complete this form.Please enable JavaScript in your browser to complete this form.Full Name *Designation *Email *Contact No *Company Name *Company Location *Are you using any CAD Software?YesNoIf Yes\, Write a Software NameRemarks		\n			Yes\, CAD Name\n			\n		\n		Want to join Free Webinar on  CFD for Real-World Engineering Problems(SOLIDWORKS Simulation)?YesNoTimings: 18 April 2026 5:00 pm - 6:00 pmSubmit
URL:https://sopaninfotech.com/event/introduction-to-esprit-edge-complete-cam-solution/
LOCATION:Online
CATEGORIES:Webinars
ATTACH;FMTTYPE=image/png:https://sopaninfotech.com/wp-content/uploads/2026/02/ESPRIT-Edge-Complete-CAM-Solution-by-SOPAN-Infotech-Surat.png
ORGANIZER;CN="Sopan Infotech":MAILTO:info@sopaninfotech.com
END:VEVENT
BEGIN:VEVENT
DTSTART;TZID=Asia/Kolkata:20260311T100000
DTEND;TZID=Asia/Kolkata:20260311T170000
DTSTAMP:20260421T212610
CREATED:20260224T122700Z
LAST-MODIFIED:20260225T190346Z
UID:24985-1773223200-1773248400@sopaninfotech.com
SUMMARY:Conference: SOLIDWORKS & HEXAGON ESPRIT EDGE | Rajkot | 11 March 2026
DESCRIPTION:Improving Quality Turnaround Time Using SOLIDWORKS Inspection\n	\n				\n		\n		\n	\n				\n				\n				\n				\n									Enhance Efficiency\, Accuracy\, and Compliance in Your Inspection Processes 								\n				\n				\n				\n									What Attendees Will LearnHow to accelerate quality inspection workflowsTechniques for automated ballooning and report creationBest practices for integrating SOLIDWORKS Inspection with existing processesReal-world examples of improved turnaround timeTools and features that eliminate manual documentation errors								\n				\n				\n				\n									Who Should AttendQuality Assurance EngineersDesign & CAD EngineersManufacturing EngineersProduction ManagersIndustrial & Process EngineersOrganizations involved in precision manufacturing and component inspection								\n				\n		            \n        \n        			\n		\n		        \n\n                \n                \n                \n        \n                     \n        		\n				\n							\n\n						\n				\n								\n			\n			\n						\n\n									\n						\n							Date & Time						\n					\n				\n									\n						April 18@ 4:00PM - 5:00PM					 \n				\n			\n			\n		\n						\n				\n		            \n        \n                \n        \n                     \n        		\n				\n							\n\n						\n				\n								\n			\n			\n						\n\n									\n						\n							Organized by:						\n					\n				\n									\n						Sopan Infotech Pvt. Ltd.					 \n				\n			\n			\n		\n						\n				\n		            \n        \n                \n        \n                     \n        		\n				\n							\n\n						\n				\n								\n			\n			\n						\n\n									\n						\n							Phone No.						\n					\n				\n									\n						+91 9727910606					 \n				\n			\n			\n		\n						\n				\n		            \n        \n        			\n		\n					\n				\n				\n					\n\n	\n					\n				\n										Registration Form				\n			\n		\n		\n								\n				\n		\n		\n	\n				\n				\n				\n				\n					Please enable JavaScript in your browser to complete this form.Please enable JavaScript in your browser to complete this form.Full Name *Designation *Email *Contact No *Company Name *		\n			CAD Full join\n			\n		\n		Company Location *Are you using any CAD Software?YesNoIf Yes\, Write a Software NameRemarksWant to join Free Webinar on  CFD for Real-World Engineering Problems(SOLIDWORKS Simulation)?YesNoTimings: 18 April 2026 5:00 pm - 6:00 pmSubmit
URL:https://sopaninfotech.com/event/conference-solidworks-hexagon-esprit-edge/
CATEGORIES:Solidworks Events
ATTACH;FMTTYPE=image/jpeg:https://sopaninfotech.com/wp-content/uploads/2026/02/Conference-SOLIDWORKS-HEXAGON-ESPRIT-EDGE-by-SOPAN-INFOTECH-at-Rajkot.jpeg
ORGANIZER;CN="Sopan Infotech":MAILTO:info@sopaninfotech.com
END:VEVENT
BEGIN:VEVENT
DTSTART;TZID=Asia/Kolkata:20260314T160000
DTEND;TZID=Asia/Kolkata:20260314T170000
DTSTAMP:20260421T212610
CREATED:20260302T112348Z
LAST-MODIFIED:20260309T070301Z
UID:25075-1773504000-1773507600@sopaninfotech.com
SUMMARY:Free Webinar -Introduction to SOLIDWORKS Simulation: From Design to Validation
DESCRIPTION:Improving Quality Turnaround Time Using SOLIDWORKS Inspection\n	\n				\n		\n		\n	\n				\n				\n				\n				\n									Enhance Efficiency\, Accuracy\, and Compliance in Your Inspection Processes 								\n				\n				\n				\n									What Attendees Will LearnHow to accelerate quality inspection workflowsTechniques for automated ballooning and report creationBest practices for integrating SOLIDWORKS Inspection with existing processesReal-world examples of improved turnaround timeTools and features that eliminate manual documentation errors								\n				\n				\n				\n									Who Should AttendQuality Assurance EngineersDesign & CAD EngineersManufacturing EngineersProduction ManagersIndustrial & Process EngineersOrganizations involved in precision manufacturing and component inspection								\n				\n		            \n        \n        			\n		\n		        \n\n                \n                \n                \n        \n                     \n        		\n				\n							\n\n						\n				\n								\n			\n			\n						\n\n									\n						\n							Date & Time						\n					\n				\n									\n						April 18@ 4:00PM - 5:00PM					 \n				\n			\n			\n		\n						\n				\n		            \n        \n                \n        \n                     \n        		\n				\n							\n\n						\n				\n								\n			\n			\n						\n\n									\n						\n							Organized by:						\n					\n				\n									\n						Sopan Infotech Pvt. Ltd.					 \n				\n			\n			\n		\n						\n				\n		            \n        \n                \n        \n                     \n        		\n				\n							\n\n						\n				\n								\n			\n			\n						\n\n									\n						\n							Phone No.						\n					\n				\n									\n						+91 9727910606					 \n				\n			\n			\n		\n						\n				\n		            \n        \n        			\n		\n					\n				\n				\n					\n\n	\n					\n				\n										Registration Form				\n			\n		\n		\n								\n				\n		\n		\n	\n				\n				\n				\n				\n					Please enable JavaScript in your browser to complete this form.Please enable JavaScript in your browser to complete this form.Full Name *Designation *Email *Contact No *Company Name *Company Location *Are you using any CAD Software?YesNoIf Yes\, Write a Software Name		\n			Full Location Simulation)?\n			\n		\n		RemarksWant to join Free Webinar on  CFD for Real-World Engineering Problems(SOLIDWORKS Simulation)?YesNoTimings: 18 April 2026 5:00 pm - 6:00 pmSubmit
URL:https://sopaninfotech.com/event/free-webinar-solidworks-simulation-14-march-2026/
LOCATION:Online
CATEGORIES:Webinars
ATTACH;FMTTYPE=image/png:https://sopaninfotech.com/wp-content/uploads/2026/03/1080x1080-GBM-SOLIDWORKS-Simulation-From-Design-to-Validation-with-QR.png
ORGANIZER;CN="Sopan Infotech":MAILTO:info@sopaninfotech.com
END:VEVENT
BEGIN:VEVENT
DTSTART;TZID=Asia/Kolkata:20260314T170000
DTEND;TZID=Asia/Kolkata:20260314T180000
DTSTAMP:20260421T212610
CREATED:20260302T112121Z
LAST-MODIFIED:20260309T112659Z
UID:25079-1773507600-1773511200@sopaninfotech.com
SUMMARY:Free Webinar - Cabinet Vision : Complete Solution for Modular Furniture
DESCRIPTION:Improving Quality Turnaround Time Using SOLIDWORKS Inspection\n	\n				\n		\n		\n	\n				\n				\n				\n				\n									Enhance Efficiency\, Accuracy\, and Compliance in Your Inspection Processes 								\n				\n				\n				\n									What Attendees Will LearnHow to accelerate quality inspection workflowsTechniques for automated ballooning and report creationBest practices for integrating SOLIDWORKS Inspection with existing processesReal-world examples of improved turnaround timeTools and features that eliminate manual documentation errors								\n				\n				\n				\n									Who Should AttendQuality Assurance EngineersDesign & CAD EngineersManufacturing EngineersProduction ManagersIndustrial & Process EngineersOrganizations involved in precision manufacturing and component inspection								\n				\n		            \n        \n        			\n		\n		        \n\n                \n                \n                \n        \n                     \n        		\n				\n							\n\n						\n				\n								\n			\n			\n						\n\n									\n						\n							Date & Time						\n					\n				\n									\n						April 18@ 4:00PM - 5:00PM					 \n				\n			\n			\n		\n						\n				\n		            \n        \n                \n        \n                     \n        		\n				\n							\n\n						\n				\n								\n			\n			\n						\n\n									\n						\n							Organized by:						\n					\n				\n									\n						Sopan Infotech Pvt. Ltd.					 \n				\n			\n			\n		\n						\n				\n		            \n        \n                \n        \n                     \n        		\n				\n							\n\n						\n				\n								\n			\n			\n						\n\n									\n						\n							Phone No.						\n					\n				\n									\n						+91 9727910606					 \n				\n			\n			\n		\n						\n				\n		            \n        \n        			\n		\n					\n				\n				\n					\n\n	\n					\n				\n										Registration Form				\n			\n		\n		\n								\n				\n		\n		\n	\n				\n				\n				\n				\n					Please enable JavaScript in your browser to complete this form.Please enable JavaScript in your browser to complete this form.Full Name *Designation *Email *Contact No *Company Name *Company Location *Are you using any CAD Software?YesNoIf Yes\, Write a Software Name		\n			Are you Name\n			\n		\n		RemarksWant to join Free Webinar on  CFD for Real-World Engineering Problems(SOLIDWORKS Simulation)?YesNoTimings: 18 April 2026 5:00 pm - 6:00 pmSubmit
URL:https://sopaninfotech.com/event/free-webinar-cabinet-vision-14-march-2026/
LOCATION:Online
CATEGORIES:Webinars
ATTACH;FMTTYPE=image/png:https://sopaninfotech.com/wp-content/uploads/2026/03/1080x1080website-Cabinet-Vision-Complete-Solution-for-Modular-Furniture-1.png
ORGANIZER;CN="Sopan Infotech":MAILTO:info@sopaninfotech.com
END:VEVENT
BEGIN:VEVENT
DTSTART;TZID=Asia/Kolkata:20260418T160000
DTEND;TZID=Asia/Kolkata:20260418T170000
DTSTAMP:20260421T212610
CREATED:20260402T083916Z
LAST-MODIFIED:20260402T121716Z
UID:25174-1776528000-1776531600@sopaninfotech.com
SUMMARY:Free Webinar -Improving Quality Turnaround Time Using SOLIDWORKS Inspection
DESCRIPTION:Improving Quality Turnaround Time Using SOLIDWORKS Inspection\n	\n				\n		\n		\n	\n				\n				\n				\n				\n									Enhance Efficiency\, Accuracy\, and Compliance in Your Inspection Processes 								\n				\n				\n				\n									What Attendees Will LearnHow to accelerate quality inspection workflowsTechniques for automated ballooning and report creationBest practices for integrating SOLIDWORKS Inspection with existing processesReal-world examples of improved turnaround timeTools and features that eliminate manual documentation errors								\n				\n				\n				\n									Who Should AttendQuality Assurance EngineersDesign & CAD EngineersManufacturing EngineersProduction ManagersIndustrial & Process EngineersOrganizations involved in precision manufacturing and component inspection								\n				\n		            \n        \n        			\n		\n		        \n\n                \n                \n                \n        \n                     \n        		\n				\n							\n\n						\n				\n								\n			\n			\n						\n\n									\n						\n							Date & Time						\n					\n				\n									\n						April 18@ 4:00PM - 5:00PM					 \n				\n			\n			\n		\n						\n				\n		            \n        \n                \n        \n                     \n        		\n				\n							\n\n						\n				\n								\n			\n			\n						\n\n									\n						\n							Organized by:						\n					\n				\n									\n						Sopan Infotech Pvt. Ltd.					 \n				\n			\n			\n		\n						\n				\n		            \n        \n                \n        \n                     \n        		\n				\n							\n\n						\n				\n								\n			\n			\n						\n\n									\n						\n							Phone No.						\n					\n				\n									\n						+91 9727910606					 \n				\n			\n			\n		\n						\n				\n		            \n        \n        			\n		\n					\n				\n				\n					\n\n	\n					\n				\n										Registration Form				\n			\n		\n		\n								\n				\n		\n		\n	\n				\n				\n				\n				\n					Please enable JavaScript in your browser to complete this form.Please enable JavaScript in your browser to complete this form.Full Name *Designation *Email *Contact No *Company Name *Company Location *Are you using any CAD Software?YesNoIf Yes\, Write a Software NameRemarks		\n			using you Free\n			\n		\n		Want to join Free Webinar on  CFD for Real-World Engineering Problems(SOLIDWORKS Simulation)?YesNoTimings: 18 April 2026 5:00 pm - 6:00 pmSubmit
URL:https://sopaninfotech.com/event/free-webinar-solidworks-inspection-18-april-2026/
LOCATION:Online
CATEGORIES:Webinars
ATTACH;FMTTYPE=image/png:https://sopaninfotech.com/wp-content/uploads/2026/04/WEBSIDE-free-webinar-Improving-Quality-Turnaround-Time-Using-SOLIDWORKS-Inspection-by-SOPAN-INFOTECH-PVT-LTD-SURAT.png
ORGANIZER;CN="Sopan Infotech":MAILTO:info@sopaninfotech.com
END:VEVENT
BEGIN:VEVENT
DTSTART;TZID=Asia/Kolkata:20260418T170000
DTEND;TZID=Asia/Kolkata:20260418T180000
DTSTAMP:20260421T212610
CREATED:20260402T083907Z
LAST-MODIFIED:20260403T054433Z
UID:25178-1776531600-1776535200@sopaninfotech.com
SUMMARY:Free Webinar - CFD for Real-World Engineering Problems
DESCRIPTION:Improving Quality Turnaround Time Using SOLIDWORKS Inspection\n	\n				\n		\n		\n	\n				\n				\n				\n				\n									Enhance Efficiency\, Accuracy\, and Compliance in Your Inspection Processes 								\n				\n				\n				\n									What Attendees Will LearnHow to accelerate quality inspection workflowsTechniques for automated ballooning and report creationBest practices for integrating SOLIDWORKS Inspection with existing processesReal-world examples of improved turnaround timeTools and features that eliminate manual documentation errors								\n				\n				\n				\n									Who Should AttendQuality Assurance EngineersDesign & CAD EngineersManufacturing EngineersProduction ManagersIndustrial & Process EngineersOrganizations involved in precision manufacturing and component inspection								\n				\n		            \n        \n        			\n		\n		        \n\n                \n                \n                \n        \n                     \n        		\n				\n							\n\n						\n				\n								\n			\n			\n						\n\n									\n						\n							Date & Time						\n					\n				\n									\n						April 18@ 4:00PM - 5:00PM					 \n				\n			\n			\n		\n						\n				\n		            \n        \n                \n        \n                     \n        		\n				\n							\n\n						\n				\n								\n			\n			\n						\n\n									\n						\n							Organized by:						\n					\n				\n									\n						Sopan Infotech Pvt. Ltd.					 \n				\n			\n			\n		\n						\n				\n		            \n        \n                \n        \n                     \n        		\n				\n							\n\n						\n				\n								\n			\n			\n						\n\n									\n						\n							Phone No.						\n					\n				\n									\n						+91 9727910606					 \n				\n			\n			\n		\n						\n				\n		            \n        \n        			\n		\n					\n				\n				\n					\n\n	\n					\n				\n										Registration Form				\n			\n		\n		\n								\n				\n		\n		\n	\n				\n				\n				\n				\n					Please enable JavaScript in your browser to complete this form.Please enable JavaScript in your browser to complete this form.Full Name *Designation *Email *Contact No *Company Name *Company Location *Are you using any CAD Software?YesNoIf Yes\, Write a Software NameRemarks		\n			Designation Engineering If\n			\n		\n		Want to join Free Webinar on  CFD for Real-World Engineering Problems(SOLIDWORKS Simulation)?YesNoTimings: 18 April 2026 5:00 pm - 6:00 pmSubmit
URL:https://sopaninfotech.com/event/cfd-for-real-world-engineering-problems-webinar/
LOCATION:Online
CATEGORIES:Webinars
ATTACH;FMTTYPE=image/png:https://sopaninfotech.com/wp-content/uploads/2026/04/gmb-free-WebinarCFD-for-Real-World-Engineering-Problems-by-SOPAN-INFOTECH-SURAT.png
ORGANIZER;CN="Sopan Infotech":MAILTO:info@sopaninfotech.com
END:VEVENT
END:VCALENDAR