BEGIN:VCALENDAR
VERSION:2.0
PRODID:-//SOPAN Infotech - ECPv6.15.11//NONSGML v1.0//EN
CALSCALE:GREGORIAN
METHOD:PUBLISH
X-ORIGINAL-URL:https://sopaninfotech.com
X-WR-CALDESC:Events for SOPAN Infotech
REFRESH-INTERVAL;VALUE=DURATION:PT1H
X-Robots-Tag:noindex
X-PUBLISHED-TTL:PT1H
BEGIN:VTIMEZONE
TZID:Asia/Kolkata
BEGIN:STANDARD
TZOFFSETFROM:+0530
TZOFFSETTO:+0530
TZNAME:IST
DTSTART:20240101T000000
END:STANDARD
END:VTIMEZONE
BEGIN:VEVENT
DTSTART;TZID=Asia/Kolkata:20251111T100000
DTEND;TZID=Asia/Kolkata:20251111T170000
DTSTAMP:20260422T031834
CREATED:20251014T112058Z
LAST-MODIFIED:20251014T112713Z
UID:23001-1762855200-1762880400@sopaninfotech.com
SUMMARY:SOLIDWORKS INNOVATION DAY 2025 - Physical Event at Novotel (Ahmedabad)
DESCRIPTION:Conference: SOLIDWORKS & HEXAGON ESPRIT EDGE | Rajkot | 11 March 2026	\n				\n		\n		\n	\n				\n				\n					\n				\n		        \n\n                \n                \n                \n        \n                     \n        		\n				\n					\n    \n        \n                    \n                                                                            \n                \n    \n				\n				\n		            \n        \n                \n        \n                     \n        		\n				\n									Session 1: SOLIDWORKS (10:00 AM – 01:00 PM)								\n				\n				\n				\n									Topic FocusComprehensive solutions covering the complete product development lifecycle—from design and validation to inspection\, visualization\, and technical communication. Key HighlightsAdvanced 3D Modeling & AssembliesSimulation & Design ValidationProduct Visualization & RenderingTechnical Documentation ToolsData Management & CollaborationIntegrated Product Development								\n				\n				\n				\n									Session 2: HEXAGON ESPRIT EDGE (02:00 PM – 05:00 PM)Topic FocusPowerful full-spectrum CAM software for CNC programming and simulation—supporting manufacturing from CAD file to machined part. 								\n				\n				\n				\n									Key HighlightsMulti-Axis CNC ProgrammingCAD–CAM IntegrationMachine Simulation & VerificationToolpath OptimizationPost-Processor CustomizationSmart Manufacturing Workflows								\n				\n		            \n        \n        			\n		\n		        \n\n                \n                \n                \n        \n                     \n        		\n				\n									Key Benefits:Reduced programming timeEnhanced machining accuracyImproved shop-floor productivityScalable CAM solution for future-ready manufacturing								\n				\n		            \n        \n                \n        \n                     \n        		\n				\n									Why Attend This Conference?Learn industry-best practices from expertsExperience live software demonstrationsImprove design-to-production efficiencyReduce errors\, rework\, and production costExplore latest digital manufacturing technologiesConnect with industry professionalsGet personalized technical guidance								\n				\n		            \n        \n                \n        \n                     \n        		\n				\n									 Who Should Attend?Design & Mechanical EngineersManufacturing EngineersCNC Programmers & OperatorsProduction & Plant ManagersTool Room & Workshop ManagersBusiness Owners & DirectorsR&D ProfessionalsEngineering Students & FacultyMSME & Industrial Entrepreneurs								\n				\n		            \n        \n        			\n		\n		        \n\n                \n                \n                \n        \n                     \n        		\n				\n					\n    \n        \n                    \n                                                                            \n                \n    \n				\n				\n				\n				\n					\n    \n        \n                    \n                                                                            \n                \n    \n				\n				\n				\n				\n							\n\n						\n				\n								\n			\n			\n						\n\n									\n						\n							Venue: 						\n					\n				\n									\n						Fortune Park JPS Grand\, Rajkot					 \n				\n			\n			\n		\n						\n				\n				\n				\n							\n\n						\n				\n								\n			\n			\n						\n\n									\n						\n							Address:						\n					\n				\n									\n						 150 Feet Ring Road\, PN-21/1\, Circle\, near Mavdi\, Jasraj Nagar\, Mavdi\, Rajkot\, Gujarat 360004					 \n				\n			\n			\n		\n						\n				\n				\n				\n							\n\n						\n				\n								\n			\n			\n						\n\n									\n						\n							Date & Time						\n					\n				\n									\n						March 11 @ 10:00AM - 5:00 PM					 \n				\n			\n			\n		\n						\n				\n				\n				\n							\n\n						\n				\n								\n			\n			\n						\n\n									\n						\n							SOLIDWORKS Session:						\n					\n				\n									\n						10:00 AM – 01:00 PM					 \n				\n			\n			\n		\n						\n				\n				\n				\n							\n\n						\n				\n								\n			\n			\n						\n\n									\n						\n							HEXAGON ESPRIT EDGE Session:						\n					\n				\n									\n						02:00 PM – 05:00 PM\n					 \n				\n			\n			\n		\n						\n				\n				\n				\n							\n\n						\n				\n								\n			\n			\n						\n\n									\n						\n							Organized by:						\n					\n				\n									\n						Sopan Infotech					 \n				\n			\n			\n		\n						\n				\n				\n				\n							\n\n						\n				\n								\n			\n			\n						\n\n									\n						\n							Phone no.						\n					\n				\n									\n						+91 9727910606					 \n				\n			\n			\n		\n						\n				\n		            \n        \n                \n        \n                     \n        		\n				\n							\n			\n		\n						\n				\n		            \n        \n        			\n		\n					\n				\n				\n					\n\n	\n					\n				\n										Registration Form				\n			\n		\n		\n								\n				\n		\n		\n	\n				\n				\n				\n				\n					Please enable JavaScript in your browser to complete this form.Please enable JavaScript in your browser to complete this form.Full Name *Designation *Email *Contact No *Company Name *Company Location *		\n			Name If Designation\n			\n		\n		Are you using any CAD Software?YesNoIf Yes\, Write a Software NameAre you using any CAM Software?YesNoIf Yes\, Write a Software NameInterested to attend conference *--- Select Choice ---SolidWorks :10AM –  01PM - Lunch Afterwards.Hexagon Esprit Edge : 2PM – 5PM - Lunch Beforewards.Both (SolidWorks & Hexagon Esprit Edge)RemarksSubmit  				\n				\n					\n				\n		        \n\n                \n                \n                \n        \n                     \n        		\n				\n					\n    \n        \n                    \n                                                                            \n                \n    \n				\n				\n		            \n        \n                \n        \n                     \n        		\n				\n					\n\n	\n		\n		\n							Conference: SOLIDWORKS & HEXAGON ESPRIT EDGE | Rajkot | 11 March 2026	\n				\n		\n		\n	\n				\n				\n				\n				\n									Session 1: SOLIDWORKS (10:00 AM – 01:00 PM)								\n				\n				\n				\n									Topic FocusComprehensive solutions covering the complete product development lifecycle—from design and validation to inspection\, visualization\, and technical communication. Key HighlightsAdvanced 3D Modeling & AssembliesSimulation & Design ValidationProduct Visualization & RenderingTechnical Documentation ToolsData Management & CollaborationIntegrated Product Development								\n				\n				\n				\n									Session 2: HEXAGON ESPRIT EDGE (02:00 PM – 05:00 PM)Topic FocusPowerful full-spectrum CAM software for CNC programming and simulation—supporting manufacturing from CAD file to machined part. 								\n				\n		            \n        \n        			\n		\n		        \n\n                \n                \n                \n        \n                     \n        		\n				\n									Key Benefits:Reduced programming timeEnhanced machining accuracyImproved shop-floor productivityScalable CAM solution for future-ready manufacturing								\n				\n		            \n        \n                \n        \n                     \n        		\n				\n									Key HighlightsMulti-Axis CNC ProgrammingCAD–CAM IntegrationMachine Simulation & VerificationToolpath OptimizationPost-Processor CustomizationSmart Manufacturing Workflows								\n				\n		            \n        \n        			\n		\n		        \n\n                \n                \n                \n        \n                     \n        		\n				\n									Why Attend This Conference?✔ Learn industry-best practices from experts✔ Experience live software demonstrations✔ Improve design-to-production efficiency✔ Reduce errors\, rework\, and production cost✔ Explore latest digital manufacturing technologies✔ Connect with industry professionals✔ Get personalized technical guidance 								\n				\n		            \n        \n                \n        \n                     \n        		\n				\n									 Who Should Attend?Design & Mechanical EngineersManufacturing EngineersCNC Programmers & OperatorsProduction & Plant ManagersTool Room & Workshop ManagersBusiness Owners & DirectorsR&D ProfessionalsEngineering Students & FacultyMSME & Industrial Entrepreneurs								\n				\n		            \n        \n        			\n		\n		        \n\n                \n                \n                \n        \n                     \n        		\n				\n							\n\n						\n				\n								\n			\n			\n						\n\n									\n						\n							Date & Time						\n					\n				\n									\n						March 11 @ 9:00AM - 6:00 PM					 \n				\n			\n			\n		\n						\n				\n		            \n        \n                \n        \n                     \n        		\n				\n							\n\n						\n				\n								\n			\n			\n						\n\n									\n						\n							Organized by:						\n					\n				\n									\n						Sopan Infotech					 \n				\n			\n			\n		\n						\n				\n		            \n        \n                \n        \n                     \n        		\n				\n							\n\n						\n				\n								\n			\n			\n						\n\n									\n						\n							Phone no.						\n					\n				\n									\n						+91 9727910606					 \n				\n			\n			\n		\n						\n				\n		            \n        \n        			\n		\n					\n				\n				\n					\n\n	\n					\n				\n										Registration Form				\n			\n		\n		\n								\n				\n		\n		\n	\n				\n				\n				\n				\n					Please enable JavaScript in your browser to complete this form.Please enable JavaScript in your browser to complete this form.Full Name *Designation *Email *Contact No *Company Name *Company Location *Are you using any CAD Software?YesNoIf Yes\, Write a Software NameAre you using any CAM Software?YesNo		\n			Interested a Name\n			\n		\n		If Yes\, Write a Software NameInterested to attend conference *--- Select Choice ---SolidWorks :10AM –  01PM - Lunch Afterwards.Hexagon Esprit Edge : 2PM – 5PM - Lunch Beforewards.Both (SolidWorks & Hexagon Esprit Edge)RemarksSubmit
URL:https://sopaninfotech.com/event/solidworks-innovation-day-2025-physical-event-at-novotel-ahmedabad/
LOCATION:Novotel Ahmedabad\, Iscon Cross Roads\, Next To Wide Angle Cinema\, S G Highway\,\, Ahmedabad\,\, Gujarat\, 380015\, India
CATEGORIES:Solidworks Events
ATTACH;FMTTYPE=image/png:https://sopaninfotech.com/wp-content/uploads/2025/10/00.png
ORGANIZER;CN="Sopan Infotech":MAILTO:info@sopaninfotech.com
END:VEVENT
END:VCALENDAR